Package: apeglm Version: 1.29.0 Command: /home/biocbuild/R/R/bin/R CMD build --keep-empty-dirs --no-resave-data apeglm StartedAt: 2025-01-29 20:51:08 -0000 (Wed, 29 Jan 2025) EndedAt: 2025-01-29 20:53:34 -0000 (Wed, 29 Jan 2025) EllapsedTime: 146.1 seconds RetCode: 0 Status: OK PackageFile: apeglm_1.29.0.tar.gz PackageFileSize: 782.8 KiB