Package: apeglm Version: 1.29.0 Command: /home/biocbuild/R/R/bin/R CMD check --install=check:apeglm.install-out.txt --library=/home/biocbuild/R/R/site-library --no-vignettes --timings apeglm_1.29.0.tar.gz StartedAt: 2025-01-28 03:34:35 -0000 (Tue, 28 Jan 2025) EndedAt: 2025-01-28 03:38:24 -0000 (Tue, 28 Jan 2025) EllapsedTime: 229.4 seconds RetCode: 0 Status: WARNINGS CheckDir: apeglm.Rcheck Warnings: 1