Package: apeglm Version: 1.29.0 Command: rm -rf apeglm.buildbin-libdir && mkdir apeglm.buildbin-libdir && E:\biocbuild\bbs-3.21-bioc\R\bin\R.exe CMD INSTALL --build --library=apeglm.buildbin-libdir apeglm_1.29.0.tar.gz StartedAt: 2025-02-06 07:31:00 -0500 (Thu, 06 Feb 2025) EndedAt: 2025-02-06 07:32:35 -0500 (Thu, 06 Feb 2025) EllapsedTime: 95.4 seconds RetCode: 0 Status: OK PackageFile: apeglm_1.29.0.zip PackageFileSize: 895.2 KiB