Package: apeglm Version: 1.29.0 Command: chmod a+r apeglm -R && E:\biocbuild\bbs-3.21-bioc\R\bin\R.exe CMD build --keep-empty-dirs --no-resave-data apeglm StartedAt: 2025-02-05 17:19:02 -0500 (Wed, 05 Feb 2025) EndedAt: 2025-02-05 17:21:52 -0500 (Wed, 05 Feb 2025) EllapsedTime: 170.2 seconds RetCode: 0 Status: OK PackageFile: apeglm_1.29.0.tar.gz PackageFileSize: 447 KiB