Package: apeglm Version: 1.29.0 Command: E:\biocbuild\bbs-3.21-bioc\R\bin\R.exe CMD INSTALL apeglm StartedAt: 2025-02-05 15:50:02 -0500 (Wed, 05 Feb 2025) EndedAt: 2025-02-05 15:51:15 -0500 (Wed, 05 Feb 2025) EllapsedTime: 73.2 seconds RetCode: 0 Status: OK