Package: appreci8R Version: 1.25.0 Command: /Library/Frameworks/R.framework/Resources/bin/R CMD build --keep-empty-dirs --no-resave-data appreci8R StartedAt: 2025-02-09 15:33:30 -0500 (Sun, 09 Feb 2025) EndedAt: 2025-02-09 15:34:41 -0500 (Sun, 09 Feb 2025) EllapsedTime: 70.8 seconds RetCode: 0 Status: OK PackageFile: appreci8R_1.25.0.tar.gz PackageFileSize: 1013 KiB