Package: appreci8R Version: 1.25.0 Command: /Library/Frameworks/R.framework/Resources/bin/R CMD check --install=check:appreci8R.install-out.txt --library=/Library/Frameworks/R.framework/Resources/library --no-vignettes --timings appreci8R_1.25.0.tar.gz StartedAt: 2025-02-09 18:04:15 -0500 (Sun, 09 Feb 2025) EndedAt: 2025-02-09 18:06:32 -0500 (Sun, 09 Feb 2025) EllapsedTime: 136.8 seconds RetCode: 0 Status: OK CheckDir: appreci8R.Rcheck Warnings: 0