Package: appreci8R Version: 1.25.0 Command: /home/biocbuild/R/R/bin/R CMD build --keep-empty-dirs --no-resave-data appreci8R StartedAt: 2025-01-29 20:51:10 -0000 (Wed, 29 Jan 2025) EndedAt: 2025-01-29 20:55:03 -0000 (Wed, 29 Jan 2025) EllapsedTime: 233.1 seconds RetCode: 0 Status: OK PackageFile: appreci8R_1.25.0.tar.gz PackageFileSize: 999.5 KiB