Package: appreci8R Version: 1.25.0 Command: /home/biocbuild/R/R/bin/R CMD INSTALL appreci8R StartedAt: 2025-01-29 20:32:08 -0000 (Wed, 29 Jan 2025) EndedAt: 2025-01-29 20:34:11 -0000 (Wed, 29 Jan 2025) EllapsedTime: 123.3 seconds RetCode: 0 Status: OK