Package: appreci8R Version: 1.25.0 Command: rm -rf appreci8R.buildbin-libdir && mkdir appreci8R.buildbin-libdir && /Users/biocbuild/BBS/utils/build-universal.sh appreci8R_1.25.0.tar.gz /Library/Frameworks/R.framework/Resources/bin/R appreci8R.buildbin-libdir StartedAt: 2025-02-10 00:42:02 -0500 (Mon, 10 Feb 2025) EndedAt: 2025-02-10 00:43:53 -0500 (Mon, 10 Feb 2025) EllapsedTime: 111.0 seconds RetCode: 0 Status: OK PackageFile: appreci8R_1.25.0.tgz PackageFileSize: 1.448 MiB