Package: appreci8R Version: 1.25.0 Command: /Library/Frameworks/R.framework/Resources/bin/R CMD INSTALL appreci8R StartedAt: 2025-02-09 15:42:29 -0500 (Sun, 09 Feb 2025) EndedAt: 2025-02-09 15:44:14 -0500 (Sun, 09 Feb 2025) EllapsedTime: 105.3 seconds RetCode: 0 Status: OK