Package: appreci8R Version: 1.25.0 Command: /home/biocbuild/bbs-3.21-bioc/R/bin/R CMD build --keep-empty-dirs --no-resave-data appreci8R StartedAt: 2025-02-09 16:09:42 -0500 (Sun, 09 Feb 2025) EndedAt: 2025-02-09 16:12:24 -0500 (Sun, 09 Feb 2025) EllapsedTime: 162.1 seconds RetCode: 0 Status: OK PackageFile: appreci8R_1.25.0.tar.gz PackageFileSize: 1013 KiB