Package: appreci8R Version: 1.25.0 Command: /home/biocbuild/bbs-3.21-bioc/R/bin/R CMD INSTALL appreci8R StartedAt: 2025-02-09 15:58:23 -0500 (Sun, 09 Feb 2025) EndedAt: 2025-02-09 15:59:43 -0500 (Sun, 09 Feb 2025) EllapsedTime: 79.1 seconds RetCode: 0 Status: OK