Package: appreci8R Version: 1.25.0 Command: rm -rf appreci8R.buildbin-libdir && mkdir appreci8R.buildbin-libdir && E:\biocbuild\bbs-3.21-bioc\R\bin\R.exe CMD INSTALL --build --library=appreci8R.buildbin-libdir appreci8R_1.25.0.tar.gz StartedAt: 2025-02-10 07:13:23 -0500 (Mon, 10 Feb 2025) EndedAt: 2025-02-10 07:14:57 -0500 (Mon, 10 Feb 2025) EllapsedTime: 93.1 seconds RetCode: 0 Status: OK PackageFile: appreci8R_1.25.0.zip PackageFileSize: 1.333 MiB