Package: appreci8R Version: 1.25.0 Command: chmod a+r appreci8R -R && E:\biocbuild\bbs-3.21-bioc\R\bin\R.exe CMD build --keep-empty-dirs --no-resave-data appreci8R StartedAt: 2025-02-09 17:15:21 -0500 (Sun, 09 Feb 2025) EndedAt: 2025-02-09 17:18:56 -0500 (Sun, 09 Feb 2025) EllapsedTime: 214.7 seconds RetCode: 0 Status: OK PackageFile: appreci8R_1.25.0.tar.gz PackageFileSize: 892.9 KiB