Package: appreci8R Version: 1.25.0 Command: E:\biocbuild\bbs-3.21-bioc\R\bin\R.exe CMD check --no-multiarch --install=check:appreci8R.install-out.txt --library=E:\biocbuild\bbs-3.21-bioc\R\library --no-vignettes --timings appreci8R_1.25.0.tar.gz StartedAt: 2025-02-09 22:39:11 -0500 (Sun, 09 Feb 2025) EndedAt: 2025-02-09 22:46:13 -0500 (Sun, 09 Feb 2025) EllapsedTime: 421.7 seconds RetCode: 0 Status: OK CheckDir: appreci8R.Rcheck Warnings: 0