Package: appreci8R Version: 1.25.0 Command: E:\biocbuild\bbs-3.21-bioc\R\bin\R.exe CMD INSTALL appreci8R StartedAt: 2025-02-09 16:51:13 -0500 (Sun, 09 Feb 2025) EndedAt: 2025-02-09 16:52:56 -0500 (Sun, 09 Feb 2025) EllapsedTime: 102.7 seconds RetCode: 0 Status: OK