Package: aroma.light Version: 3.37.0 Command: /Library/Frameworks/R.framework/Resources/bin/R CMD build --keep-empty-dirs --no-resave-data aroma.light StartedAt: 2025-02-09 15:33:30 -0500 (Sun, 09 Feb 2025) EndedAt: 2025-02-09 15:33:31 -0500 (Sun, 09 Feb 2025) EllapsedTime: 1.0 seconds RetCode: 0 Status: OK PackageFile: aroma.light_3.37.0.tar.gz PackageFileSize: 379.3 KiB