Package: aroma.light Version: 3.37.0 Command: /Library/Frameworks/R.framework/Resources/bin/R CMD check --install=check:aroma.light.install-out.txt --library=/Library/Frameworks/R.framework/Resources/library --no-vignettes --timings aroma.light_3.37.0.tar.gz StartedAt: 2025-02-09 18:04:18 -0500 (Sun, 09 Feb 2025) EndedAt: 2025-02-09 18:04:51 -0500 (Sun, 09 Feb 2025) EllapsedTime: 33.4 seconds RetCode: 0 Status: OK CheckDir: aroma.light.Rcheck Warnings: 0