Package: aroma.light Version: 3.37.0 Command: /home/biocbuild/R/R/bin/R CMD build --keep-empty-dirs --no-resave-data aroma.light StartedAt: 2025-01-29 20:51:13 -0000 (Wed, 29 Jan 2025) EndedAt: 2025-01-29 20:51:14 -0000 (Wed, 29 Jan 2025) EllapsedTime: 1.0 seconds RetCode: 0 Status: OK PackageFile: aroma.light_3.37.0.tar.gz PackageFileSize: 379.3 KiB