Package: aroma.light Version: 3.37.0 Command: /home/biocbuild/R/R/bin/R CMD INSTALL aroma.light StartedAt: 2025-01-29 19:34:11 -0000 (Wed, 29 Jan 2025) EndedAt: 2025-01-29 19:34:22 -0000 (Wed, 29 Jan 2025) EllapsedTime: 11.4 seconds RetCode: 0 Status: OK