Package: arrayMvout Version: 1.65.0 Command: /Library/Frameworks/R.framework/Resources/bin/R CMD check --install=check:arrayMvout.install-out.txt --library=/Library/Frameworks/R.framework/Resources/library --no-vignettes --timings arrayMvout_1.65.0.tar.gz StartedAt: 2025-02-04 18:04:51 -0500 (Tue, 04 Feb 2025) EndedAt: 2025-02-04 18:06:50 -0500 (Tue, 04 Feb 2025) EllapsedTime: 119.5 seconds RetCode: 0 Status: OK CheckDir: arrayMvout.Rcheck Warnings: 0