Package: arrayMvout Version: 1.65.0 Command: /home/biocbuild/R/R/bin/R CMD build --keep-empty-dirs --no-resave-data arrayMvout StartedAt: 2025-01-29 20:51:15 -0000 (Wed, 29 Jan 2025) EndedAt: 2025-01-29 20:52:44 -0000 (Wed, 29 Jan 2025) EllapsedTime: 89.0 seconds RetCode: 0 Status: OK PackageFile: arrayMvout_1.65.0.tar.gz PackageFileSize: 687.4 KiB