Package: arrayMvout Version: 1.65.0 Command: /Library/Frameworks/R.framework/Resources/bin/R CMD build --keep-empty-dirs --no-resave-data arrayMvout StartedAt: 2025-02-09 15:54:41 -0500 (Sun, 09 Feb 2025) EndedAt: 2025-02-09 15:56:01 -0500 (Sun, 09 Feb 2025) EllapsedTime: 80.0 seconds RetCode: 0 Status: OK PackageFile: arrayMvout_1.65.0.tar.gz PackageFileSize: 692.4 KiB