Package: arrayMvout Version: 1.65.0 Command: /Library/Frameworks/R.framework/Resources/bin/R CMD INSTALL arrayMvout StartedAt: 2025-02-09 15:46:05 -0500 (Sun, 09 Feb 2025) EndedAt: 2025-02-09 15:46:56 -0500 (Sun, 09 Feb 2025) EllapsedTime: 51.1 seconds RetCode: 0 Status: OK