Package: arrayMvout Version: 1.65.0 Command: /home/biocbuild/bbs-3.21-bioc/R/bin/R CMD check --install=check:arrayMvout.install-out.txt --library=/home/biocbuild/bbs-3.21-bioc/R/site-library --timings arrayMvout_1.65.0.tar.gz StartedAt: 2025-02-09 20:03:06 -0500 (Sun, 09 Feb 2025) EndedAt: 2025-02-09 20:08:44 -0500 (Sun, 09 Feb 2025) EllapsedTime: 338.6 seconds RetCode: 0 Status: OK CheckDir: arrayMvout.Rcheck Warnings: 0