Package: arrayMvout Version: 1.65.0 Command: rm -rf arrayMvout.buildbin-libdir && mkdir arrayMvout.buildbin-libdir && E:\biocbuild\bbs-3.21-bioc\R\bin\R.exe CMD INSTALL --build --library=arrayMvout.buildbin-libdir arrayMvout_1.65.0.tar.gz StartedAt: 2025-02-04 07:28:37 -0500 (Tue, 04 Feb 2025) EndedAt: 2025-02-04 07:29:35 -0500 (Tue, 04 Feb 2025) EllapsedTime: 58.2 seconds RetCode: 0 Status: OK PackageFile: arrayMvout_1.65.0.zip PackageFileSize: 754.7 KiB