Package: arrayMvout Version: 1.65.0 Command: chmod a+r arrayMvout -R && E:\biocbuild\bbs-3.21-bioc\R\bin\R.exe CMD build --keep-empty-dirs --no-resave-data arrayMvout StartedAt: 2025-02-09 17:15:33 -0500 (Sun, 09 Feb 2025) EndedAt: 2025-02-09 17:17:02 -0500 (Sun, 09 Feb 2025) EllapsedTime: 88.8 seconds RetCode: 0 Status: OK PackageFile: arrayMvout_1.65.0.tar.gz PackageFileSize: 584.8 KiB