Package: arrayMvout Version: 1.65.0 Command: E:\biocbuild\bbs-3.21-bioc\R\bin\R.exe CMD check --no-multiarch --install=check:arrayMvout.install-out.txt --library=E:\biocbuild\bbs-3.21-bioc\R\library --no-vignettes --timings arrayMvout_1.65.0.tar.gz StartedAt: 2025-02-09 22:39:34 -0500 (Sun, 09 Feb 2025) EndedAt: 2025-02-09 22:45:39 -0500 (Sun, 09 Feb 2025) EllapsedTime: 364.6 seconds RetCode: 0 Status: OK CheckDir: arrayMvout.Rcheck Warnings: 0