Package: artMS Version: 1.25.0 Command: rm -rf artMS.buildbin-libdir && mkdir artMS.buildbin-libdir && /Users/biocbuild/BBS/utils/build-universal.sh artMS_1.25.0.tar.gz /Library/Frameworks/R.framework/Resources/bin/R artMS.buildbin-libdir StartedAt: 2025-02-04 22:07:48 -0500 (Tue, 04 Feb 2025) EndedAt: 2025-02-04 22:08:01 -0500 (Tue, 04 Feb 2025) EllapsedTime: 13.3 seconds RetCode: 0 Status: OK PackageFile: artMS_1.25.0.tgz PackageFileSize: 3.328 MiB