Package: artMS Version: 1.25.0 Command: /Library/Frameworks/R.framework/Resources/bin/R CMD build --keep-empty-dirs --no-resave-data artMS StartedAt: 2025-02-04 15:34:11 -0500 (Tue, 04 Feb 2025) EndedAt: 2025-02-04 15:34:31 -0500 (Tue, 04 Feb 2025) EllapsedTime: 20.2 seconds RetCode: 0 Status: OK PackageFile: artMS_1.25.0.tar.gz PackageFileSize: 3.978 MiB