Package: artMS Version: 1.25.0 Command: /Library/Frameworks/R.framework/Resources/bin/R CMD check --install=check:artMS.install-out.txt --library=/Library/Frameworks/R.framework/Resources/library --no-vignettes --timings artMS_1.25.0.tar.gz StartedAt: 2025-02-04 18:05:23 -0500 (Tue, 04 Feb 2025) EndedAt: 2025-02-04 18:06:31 -0500 (Tue, 04 Feb 2025) EllapsedTime: 67.9 seconds RetCode: 0 Status: OK CheckDir: artMS.Rcheck Warnings: 0