Package: artMS Version: 1.25.0 Command: /Library/Frameworks/R.framework/Resources/bin/R CMD INSTALL artMS StartedAt: 2025-02-04 15:26:59 -0500 (Tue, 04 Feb 2025) EndedAt: 2025-02-04 15:27:11 -0500 (Tue, 04 Feb 2025) EllapsedTime: 11.6 seconds RetCode: 0 Status: OK