Package: artMS Version: 1.25.0 Command: /home/biocbuild/R/R/bin/R CMD build --keep-empty-dirs --no-resave-data artMS StartedAt: 2025-01-29 20:52:05 -0000 (Wed, 29 Jan 2025) EndedAt: 2025-01-29 20:53:24 -0000 (Wed, 29 Jan 2025) EllapsedTime: 79.0 seconds RetCode: 0 Status: OK PackageFile: artMS_1.25.0.tar.gz PackageFileSize: 3.653 MiB