Package: artMS Version: 1.25.0 Command: /home/biocbuild/R/R/bin/R CMD INSTALL artMS StartedAt: 2025-01-29 20:31:37 -0000 (Wed, 29 Jan 2025) EndedAt: 2025-01-29 20:32:18 -0000 (Wed, 29 Jan 2025) EllapsedTime: 40.2 seconds RetCode: 0 Status: OK