Package: artMS Version: 1.25.0 Command: /home/biocbuild/bbs-3.21-bioc/R/bin/R CMD INSTALL artMS StartedAt: 2025-02-04 15:23:48 -0500 (Tue, 04 Feb 2025) EndedAt: 2025-02-04 15:24:16 -0500 (Tue, 04 Feb 2025) EllapsedTime: 27.5 seconds RetCode: 0 Status: OK