Package: artMS Version: 1.25.0 Command: rm -rf artMS.buildbin-libdir && mkdir artMS.buildbin-libdir && E:\biocbuild\bbs-3.21-bioc\R\bin\R.exe CMD INSTALL --build --library=artMS.buildbin-libdir artMS_1.25.0.tar.gz StartedAt: 2025-02-05 07:26:08 -0500 (Wed, 05 Feb 2025) EndedAt: 2025-02-05 07:27:04 -0500 (Wed, 05 Feb 2025) EllapsedTime: 55.4 seconds RetCode: 0 Status: OK PackageFile: artMS_1.25.0.zip PackageFileSize: 2.873 MiB