Package: artMS Version: 1.25.0 Command: chmod a+r artMS -R && E:\biocbuild\bbs-3.21-bioc\R\bin\R.exe CMD build --keep-empty-dirs --no-resave-data artMS StartedAt: 2025-02-04 17:13:10 -0500 (Tue, 04 Feb 2025) EndedAt: 2025-02-04 17:15:05 -0500 (Tue, 04 Feb 2025) EllapsedTime: 115.3 seconds RetCode: 0 Status: OK PackageFile: artMS_1.25.0.tar.gz PackageFileSize: 3.522 MiB