Package: artMS Version: 1.25.0 Command: E:\biocbuild\bbs-3.21-bioc\R\bin\R.exe CMD INSTALL artMS StartedAt: 2025-02-04 16:49:01 -0500 (Tue, 04 Feb 2025) EndedAt: 2025-02-04 16:49:55 -0500 (Tue, 04 Feb 2025) EllapsedTime: 53.7 seconds RetCode: 0 Status: OK