Package: assorthead Version: 1.1.13 Command: rm -rf assorthead.buildbin-libdir && mkdir assorthead.buildbin-libdir && /Users/biocbuild/BBS/utils/build-universal.sh assorthead_1.1.13.tar.gz /Library/Frameworks/R.framework/Resources/bin/R assorthead.buildbin-libdir StartedAt: 2025-02-04 22:07:54 -0500 (Tue, 04 Feb 2025) EndedAt: 2025-02-04 22:07:57 -0500 (Tue, 04 Feb 2025) EllapsedTime: 3.0 seconds RetCode: 0 Status: OK PackageFile: assorthead_1.1.13.tgz PackageFileSize: 1.768 MiB