Package: assorthead Version: 1.1.13 Command: /Library/Frameworks/R.framework/Resources/bin/R CMD build --keep-empty-dirs --no-resave-data assorthead StartedAt: 2025-02-04 15:34:27 -0500 (Tue, 04 Feb 2025) EndedAt: 2025-02-04 15:34:31 -0500 (Tue, 04 Feb 2025) EllapsedTime: 4.0 seconds RetCode: 0 Status: OK PackageFile: assorthead_1.1.13.tar.gz PackageFileSize: 1.738 MiB