Package: assorthead Version: 1.1.13 Command: /Library/Frameworks/R.framework/Resources/bin/R CMD INSTALL assorthead StartedAt: 2025-02-04 15:01:03 -0500 (Tue, 04 Feb 2025) EndedAt: 2025-02-04 15:01:05 -0500 (Tue, 04 Feb 2025) EllapsedTime: 2.0 seconds RetCode: 0 Status: OK