Package: assorthead Version: 1.1.13 Command: /Library/Frameworks/R.framework/Resources/bin/R CMD check --install=check:assorthead.install-out.txt --library=/Library/Frameworks/R.framework/Resources/library --no-vignettes --timings assorthead_1.1.13.tar.gz StartedAt: 2025-02-09 19:06:04 -0500 (Sun, 09 Feb 2025) EndedAt: 2025-02-09 19:06:22 -0500 (Sun, 09 Feb 2025) EllapsedTime: 18.3 seconds RetCode: 0 Status: OK CheckDir: assorthead.Rcheck Warnings: 0