Package: assorthead Version: 1.1.13 Command: /home/biocbuild/bbs-3.21-bioc/R/bin/R CMD INSTALL assorthead StartedAt: 2025-02-04 15:01:11 -0500 (Tue, 04 Feb 2025) EndedAt: 2025-02-04 15:01:19 -0500 (Tue, 04 Feb 2025) EllapsedTime: 8.0 seconds RetCode: 0 Status: OK