############################################################################## ############################################################################## ### ### Running command: ### ### rm -rf assorthead.buildbin-libdir && mkdir assorthead.buildbin-libdir && E:\biocbuild\bbs-3.21-bioc\R\bin\R.exe CMD INSTALL --build --library=assorthead.buildbin-libdir assorthead_1.1.13.tar.gz ### ############################################################################## ############################################################################## * installing *source* package 'assorthead' ... ** this is package 'assorthead' version '1.1.13' ** using staged installation ** inst ** help No man pages found in package 'assorthead' *** installing help indices ** building package indices ** installing vignettes ** testing if installed package can be loaded from temporary location ** testing if installed package can be loaded from final location ** testing if installed package keeps a record of temporary installation path * MD5 sums packaged installation of 'assorthead' as assorthead_1.1.13.zip * DONE (assorthead)