Package: assorthead Version: 1.1.13 Command: rm -rf assorthead.buildbin-libdir && mkdir assorthead.buildbin-libdir && E:\biocbuild\bbs-3.21-bioc\R\bin\R.exe CMD INSTALL --build --library=assorthead.buildbin-libdir assorthead_1.1.13.tar.gz StartedAt: 2025-02-10 07:13:58 -0500 (Mon, 10 Feb 2025) EndedAt: 2025-02-10 07:15:01 -0500 (Mon, 10 Feb 2025) EllapsedTime: 63.4 seconds RetCode: 0 Status: OK PackageFile: assorthead_1.1.13.zip PackageFileSize: 2.345 MiB