Package: assorthead Version: 1.1.13 Command: chmod a+r assorthead -R && E:\biocbuild\bbs-3.21-bioc\R\bin\R.exe CMD build --keep-empty-dirs --no-resave-data assorthead StartedAt: 2025-02-09 17:17:03 -0500 (Sun, 09 Feb 2025) EndedAt: 2025-02-09 17:18:14 -0500 (Sun, 09 Feb 2025) EllapsedTime: 71.3 seconds RetCode: 0 Status: OK PackageFile: assorthead_1.1.13.tar.gz PackageFileSize: 1.738 MiB