Package: assorthead Version: 1.1.13 Command: E:\biocbuild\bbs-3.21-bioc\R\bin\R.exe CMD INSTALL assorthead StartedAt: 2025-02-09 15:18:23 -0500 (Sun, 09 Feb 2025) EndedAt: 2025-02-09 15:21:31 -0500 (Sun, 09 Feb 2025) EllapsedTime: 188.2 seconds RetCode: 0 Status: OK