Package: attract Version: 1.59.0 Command: /Library/Frameworks/R.framework/Resources/bin/R CMD check --install=check:attract.install-out.txt --library=/Library/Frameworks/R.framework/Resources/library --no-vignettes --timings attract_1.59.0.tar.gz StartedAt: 2025-02-09 18:06:00 -0500 (Sun, 09 Feb 2025) EndedAt: 2025-02-09 18:07:47 -0500 (Sun, 09 Feb 2025) EllapsedTime: 106.3 seconds RetCode: 0 Status: OK CheckDir: attract.Rcheck Warnings: 0