Package: attract Version: 1.59.0 Command: /home/biocbuild/R/R/bin/R CMD build --keep-empty-dirs --no-resave-data attract StartedAt: 2025-01-29 20:55:03 -0000 (Wed, 29 Jan 2025) EndedAt: 2025-01-29 20:58:28 -0000 (Wed, 29 Jan 2025) EllapsedTime: 205.1 seconds RetCode: 0 Status: OK PackageFile: attract_1.59.0.tar.gz PackageFileSize: 4.291 MiB